BEGIN:VCALENDAR
VERSION:2.0
PRODID:-//Noyo Ocean Collective - ECPv6.7.0//NONSGML v1.0//EN
CALSCALE:GREGORIAN
METHOD:PUBLISH
X-ORIGINAL-URL:https://noyooceancollective.org
X-WR-CALDESC:Events for Noyo Ocean Collective
REFRESH-INTERVAL;VALUE=DURATION:PT1H
X-Robots-Tag:noindex
X-PUBLISHED-TTL:PT1H
BEGIN:VTIMEZONE
TZID:UTC
BEGIN:STANDARD
TZOFFSETFROM:+0000
TZOFFSETTO:+0000
TZNAME:UTC
DTSTART:20240101T000000
END:STANDARD
END:VTIMEZONE
BEGIN:VEVENT
DTSTART;TZID=UTC:20240615T110000
DTEND;TZID=UTC:20240615T150000
DTSTAMP:20260424T101918
CREATED:20240426T013420Z
LAST-MODIFIED:20240426T013420Z
UID:542-1718449200-1718463600@noyooceancollective.org
SUMMARY:North Coast KelpFest!: Open House at the Urchin Ranch
DESCRIPTION:As part of North Coast KelpFest!\, visit the Noyo Center Marine Field Station in Noyo Harbor and learn about the organization’s land-based urchin aquaculture system\, or urchin ranch. While you are there\, see the underwater photo and video installation featuring the work of Abbey Dias and Patrick Webster\, taste wild and farmed uni\, and learn more about the fascinating purple urchin from Noyo Center educators. \nDonations welcome.
URL:https://noyooceancollective.org/event/north-coast-kelpfest-open-house-at-the-urchin-ranch/
LOCATION:Noyo Center Marine Field Station\, 32430 N. Harbor Drive\, Fort Bragg\, CA\, United States
END:VEVENT
END:VCALENDAR