BEGIN:VCALENDAR
VERSION:2.0
PRODID:-//Noyo Ocean Collective - ECPv6.7.0//NONSGML v1.0//EN
CALSCALE:GREGORIAN
METHOD:PUBLISH
X-WR-CALNAME:Noyo Ocean Collective
X-ORIGINAL-URL:https://noyooceancollective.org
X-WR-CALDESC:Events for Noyo Ocean Collective
REFRESH-INTERVAL;VALUE=DURATION:PT1H
X-Robots-Tag:noindex
X-PUBLISHED-TTL:PT1H
BEGIN:VTIMEZONE
TZID:UTC
BEGIN:STANDARD
TZOFFSETFROM:+0000
TZOFFSETTO:+0000
TZNAME:UTC
DTSTART:20240101T000000
END:STANDARD
END:VTIMEZONE
BEGIN:VEVENT
DTSTART;TZID=UTC:20240806T170000
DTEND;TZID=UTC:20240806T170000
DTSTAMP:20260422T025218
CREATED:20240801T055854Z
LAST-MODIFIED:20240801T055854Z
UID:584-1722963600-1722963600@noyooceancollective.org
SUMMARY:National Night Out
DESCRIPTION:Come check out our table at National Night Out hosted by the City of Fort Bragg Police Department! \nTuesday\, August 6th at 5pm in Bainbridge Park. \n“National Night Out is an annual community-building campaign that promotes police-community partnerships and neighborhood camaraderie to make our neighborhoods safer\, more caring places to live. National Night Out enhances the relationship between neighbors and law enforcement while bringing back a true sense of community. Furthermore\, it provides a great opportunity to bring police and neighbors together under positive circumstances. Millions of neighbors take part in National Night Out across thousands of communities from all fifty states\, U.S. territories and military bases worldwide on the first Tuesday in August.”
URL:https://noyooceancollective.org/event/national-night-out/
LOCATION:Bainbridge Park\, 418 East Laurel\, Fort Bragg
END:VEVENT
BEGIN:VEVENT
DTSTART;TZID=UTC:20240822T193000
DTEND;TZID=UTC:20240822T220000
DTSTAMP:20260422T025218
CREATED:20240808T052332Z
LAST-MODIFIED:20240809T005703Z
UID:618-1724355000-1724364000@noyooceancollective.org
SUMMARY:2024 Movie Series: Jaws
DESCRIPTION:Join us for a classic summertime film showing of Jaws! Hosted by Noyo Harbor Blue Economy and the Evil Scrunchies. Entry by donation. All proceeds go to the Larry Spring Museum. \nBring a small chair\, blanket\, and beverage. \n \n 
URL:https://noyooceancollective.org/event/2024-movie-series-jaws/
LOCATION:Larry Spring Museum\, 225 E Redwood Ave\, Fort Bragg\, CA
END:VEVENT
BEGIN:VEVENT
DTSTART;TZID=UTC:20240824T090000
DTEND;TZID=UTC:20240824T110000
DTSTAMP:20260422T025218
CREATED:20240221T075017Z
LAST-MODIFIED:20240727T012834Z
UID:484-1724490000-1724497200@noyooceancollective.org
SUMMARY:4th Saturday Community Update
DESCRIPTION:Join us for our monthly Community Updates! We meet on the fourth Saturday of the month from 9-11am at Town Hall to discuss the Noyo Harbor Blue Economy planning effort.  Tea and snacks are provided!
URL:https://noyooceancollective.org/event/community-outreach-team-training-7/
LOCATION:Town Hall\, 363 Main Street\, Fort Bragg\, CA\, 95437\, United States
END:VEVENT
END:VCALENDAR