BEGIN:VCALENDAR
VERSION:2.0
PRODID:-//Noyo Ocean Collective - ECPv6.7.0//NONSGML v1.0//EN
CALSCALE:GREGORIAN
METHOD:PUBLISH
X-ORIGINAL-URL:https://noyooceancollective.org
X-WR-CALDESC:Events for Noyo Ocean Collective
REFRESH-INTERVAL;VALUE=DURATION:PT1H
X-Robots-Tag:noindex
X-PUBLISHED-TTL:PT1H
BEGIN:VTIMEZONE
TZID:America/Denver
BEGIN:DAYLIGHT
TZOFFSETFROM:-0700
TZOFFSETTO:-0600
TZNAME:MDT
DTSTART:20240310T090000
END:DAYLIGHT
BEGIN:STANDARD
TZOFFSETFROM:-0600
TZOFFSETTO:-0700
TZNAME:MST
DTSTART:20241103T080000
END:STANDARD
TZID:UTC
BEGIN:STANDARD
TZOFFSETFROM:+0000
TZOFFSETTO:+0000
TZNAME:UTC
DTSTART:20240101T000000
END:STANDARD
END:VTIMEZONE
BEGIN:VEVENT
DTSTART;TZID=America/Denver:20241112T180000
DTEND;TZID=America/Denver:20241112T193000
DTSTAMP:20260420T062012
CREATED:20241107T212528Z
LAST-MODIFIED:20241107T212629Z
UID:711-1731434400-1731439800@noyooceancollective.org
SUMMARY:Ocean Science Center Virtual Design Presentation
DESCRIPTION:Learn more about the Noyo Center for Marine Science’s design plans for the Ocean Science Center on the Noyo Headlands\, and provide your input! \nIf you missed the in-person presentation in Fort Bragg\, join this virtual event with EHDD Architecture and SCAPE Landscape to learn more about this exciting project and the vision for the future of marine science on the Mendocino Coast. Register for the program here.
URL:https://noyooceancollective.org/event/ocean-science-center-virtual-design-presentation/
END:VEVENT
BEGIN:VEVENT
DTSTART;TZID=America/Denver:20241119T183000
DTEND;TZID=America/Denver:20241119T203000
DTSTAMP:20260420T062012
CREATED:20241118T173910Z
LAST-MODIFIED:20241118T174040Z
UID:713-1732041000-1732048200@noyooceancollective.org
SUMMARY:Tuesday Night Trivia at Tall Guy!
DESCRIPTION:Join us November 19th at 6:30pm for Tuesday night trivia at Tall Guy! \n 
URL:https://noyooceancollective.org/event/tuesday-night-trivia-at-tall-guy/
LOCATION:Tall Guy Brewing\, 362 N Franklin St\, Fort Bragg\, CA\, 95437\, United States
END:VEVENT
BEGIN:VEVENT
DTSTART;TZID=UTC:20241121T150000
DTEND;TZID=UTC:20241121T170000
DTSTAMP:20260420T062012
CREATED:20241016T033114Z
LAST-MODIFIED:20241016T033114Z
UID:708-1732201200-1732208400@noyooceancollective.org
SUMMARY:GrassRoots Institute Local Coastal Program Update Zoom Webinar
DESCRIPTION:Join us for a presentation on the Noyo Harbor Blue Economy Visioning\, Resiliency and Implementation Plan and subsequent Local Coastal Program update. \nPlease visit the GrassRoots Institute’s website at www.grassroots-institute.org/vision for more information and to access the Zoom link and recording.
URL:https://noyooceancollective.org/event/grassroots-institute-local-coastal-program-update-zoom-webinar/
END:VEVENT
END:VCALENDAR